BEGIN:VCALENDAR
VERSION:2.0
PRODID:-// - ECPv6.15.20//NONSGML v1.0//EN
CALSCALE:GREGORIAN
METHOD:PUBLISH
X-ORIGINAL-URL:https://sheffieldurc.org.uk
X-WR-CALDESC:Events for 
REFRESH-INTERVAL;VALUE=DURATION:PT1H
X-Robots-Tag:noindex
X-PUBLISHED-TTL:PT1H
BEGIN:VTIMEZONE
TZID:Europe/London
BEGIN:DAYLIGHT
TZOFFSETFROM:+0000
TZOFFSETTO:+0100
TZNAME:BST
DTSTART:20190331T010000
END:DAYLIGHT
BEGIN:STANDARD
TZOFFSETFROM:+0100
TZOFFSETTO:+0000
TZNAME:GMT
DTSTART:20191027T010000
END:STANDARD
BEGIN:DAYLIGHT
TZOFFSETFROM:+0000
TZOFFSETTO:+0100
TZNAME:BST
DTSTART:20200329T010000
END:DAYLIGHT
BEGIN:STANDARD
TZOFFSETFROM:+0100
TZOFFSETTO:+0000
TZNAME:GMT
DTSTART:20201025T010000
END:STANDARD
BEGIN:DAYLIGHT
TZOFFSETFROM:+0000
TZOFFSETTO:+0100
TZNAME:BST
DTSTART:20210328T010000
END:DAYLIGHT
BEGIN:STANDARD
TZOFFSETFROM:+0100
TZOFFSETTO:+0000
TZNAME:GMT
DTSTART:20211031T010000
END:STANDARD
END:VTIMEZONE
BEGIN:VEVENT
DTSTART;TZID=Europe/London:20200405T103000
DTEND;TZID=Europe/London:20200405T113000
DTSTAMP:20260420T011044
CREATED:20200402T103632Z
LAST-MODIFIED:20200402T103632Z
UID:536-1586082600-1586086200@sheffieldurc.org.uk
SUMMARY:Palm Sunday worship
DESCRIPTION:A regular live Sunday Worship\, starting this Sunday\, also 10.30-11.00 (but you can ‘arrive for worship’ a bit earlier if you want!  There will be coffee afterwards!) \nhttps://us04web.zoom.us/j/196150653
URL:https://sheffieldurc.org.uk/event/palm-sunday-worship/
LOCATION:Online\, United Kingdom
CATEGORIES:Worship
END:VEVENT
BEGIN:VEVENT
DTSTART;TZID=Europe/London:20200404T103000
DTEND;TZID=Europe/London:20200404T113000
DTSTAMP:20260420T011044
CREATED:20200402T102457Z
LAST-MODIFIED:20200402T104242Z
UID:532-1585996200-1585999800@sheffieldurc.org.uk
SUMMARY:Coffee Morning
DESCRIPTION:Join us for an informal chat \nhttps://us04web.zoom.us/j/396328745
URL:https://sheffieldurc.org.uk/event/coffee-morning/
LOCATION:Online\, United Kingdom
CATEGORIES:Social
END:VEVENT
END:VCALENDAR