BEGIN:VCALENDAR
VERSION:2.0
PRODID:-// - ECPv6.15.20//NONSGML v1.0//EN
CALSCALE:GREGORIAN
METHOD:PUBLISH
X-ORIGINAL-URL:https://sheffieldurc.org.uk
X-WR-CALDESC:Events for 
REFRESH-INTERVAL;VALUE=DURATION:PT1H
X-Robots-Tag:noindex
X-PUBLISHED-TTL:PT1H
BEGIN:VTIMEZONE
TZID:Europe/London
BEGIN:DAYLIGHT
TZOFFSETFROM:+0000
TZOFFSETTO:+0100
TZNAME:BST
DTSTART:20220327T010000
END:DAYLIGHT
BEGIN:STANDARD
TZOFFSETFROM:+0100
TZOFFSETTO:+0000
TZNAME:GMT
DTSTART:20221030T010000
END:STANDARD
BEGIN:DAYLIGHT
TZOFFSETFROM:+0000
TZOFFSETTO:+0100
TZNAME:BST
DTSTART:20230326T010000
END:DAYLIGHT
BEGIN:STANDARD
TZOFFSETFROM:+0100
TZOFFSETTO:+0000
TZNAME:GMT
DTSTART:20231029T010000
END:STANDARD
BEGIN:DAYLIGHT
TZOFFSETFROM:+0000
TZOFFSETTO:+0100
TZNAME:BST
DTSTART:20240331T010000
END:DAYLIGHT
BEGIN:STANDARD
TZOFFSETFROM:+0100
TZOFFSETTO:+0000
TZNAME:GMT
DTSTART:20241027T010000
END:STANDARD
BEGIN:DAYLIGHT
TZOFFSETFROM:+0000
TZOFFSETTO:+0100
TZNAME:BST
DTSTART:20250330T010000
END:DAYLIGHT
BEGIN:STANDARD
TZOFFSETFROM:+0100
TZOFFSETTO:+0000
TZNAME:GMT
DTSTART:20251026T010000
END:STANDARD
END:VTIMEZONE
BEGIN:VEVENT
DTSTART;TZID=Europe/London:20230727T190000
DTEND;TZID=Europe/London:20230727T200000
DTSTAMP:20260422T225727
CREATED:20230701T094908Z
LAST-MODIFIED:20230701T094908Z
UID:2010-1690484400-1690488000@sheffieldurc.org.uk
SUMMARY:Fellowship Evening
DESCRIPTION:Join us for our regular Thursday evening fellowship\, join us for a mix of reflection\, bible study\, discussion\, and fellowship. \n\nThe Zoom link for Thursday events is. \nhttps://us02web.zoom.us/j/85017825093 \nInformation on how to join us on Zoom is on this page
URL:https://sheffieldurc.org.uk/event/fellowship-evening-65/
LOCATION:Online\, United Kingdom
CATEGORIES:Study
END:VEVENT
BEGIN:VEVENT
DTSTART;TZID=Europe/London:20230928T190000
DTEND;TZID=Europe/London:20230928T200000
DTSTAMP:20260422T225727
CREATED:20230920T094142Z
LAST-MODIFIED:20230920T094142Z
UID:2019-1695927600-1695931200@sheffieldurc.org.uk
SUMMARY:Fellowship Evening
DESCRIPTION:Join us for our regular Thursday evening fellowship\, join us for a mix of reflection\, bible study\, discussion\, and fellowship. \n\nThe Zoom link for Thursday events is. \nhttps://us02web.zoom.us/j/85017825093 \nInformation on how to join us on Zoom is on this page
URL:https://sheffieldurc.org.uk/event/fellowship-evening-67/
LOCATION:Online\, United Kingdom
CATEGORIES:Study
END:VEVENT
BEGIN:VEVENT
DTSTART;TZID=Europe/London:20231012T190000
DTEND;TZID=Europe/London:20231012T200000
DTSTAMP:20260422T225727
CREATED:20230920T094315Z
LAST-MODIFIED:20230920T094315Z
UID:2023-1697137200-1697140800@sheffieldurc.org.uk
SUMMARY:Fellowship Evening
DESCRIPTION:Join us for our regular Thursday evening fellowship\, join us for a mix of reflection\, bible study\, discussion\, and fellowship. \n\nThe Zoom link for Thursday events is. \nhttps://us02web.zoom.us/j/85017825093 \nInformation on how to join us on Zoom is on this page
URL:https://sheffieldurc.org.uk/event/fellowship-evening-69/
LOCATION:Online\, United Kingdom
CATEGORIES:Study
END:VEVENT
BEGIN:VEVENT
DTSTART;TZID=Europe/London:20231019T190000
DTEND;TZID=Europe/London:20231019T200000
DTSTAMP:20260422T225727
CREATED:20230920T094358Z
LAST-MODIFIED:20230920T094358Z
UID:2025-1697742000-1697745600@sheffieldurc.org.uk
SUMMARY:Fellowship Evening
DESCRIPTION:Join us for our regular Thursday evening fellowship\, join us for a mix of reflection\, bible study\, discussion\, and fellowship. \n\nThe Zoom link for Thursday events is. \nhttps://us02web.zoom.us/j/85017825093 \nInformation on how to join us on Zoom is on this page
URL:https://sheffieldurc.org.uk/event/fellowship-evening-70/
LOCATION:Online\, United Kingdom
CATEGORIES:Study
END:VEVENT
BEGIN:VEVENT
DTSTART;TZID=Europe/London:20231026T190000
DTEND;TZID=Europe/London:20231026T200000
DTSTAMP:20260422T225727
CREATED:20230920T094442Z
LAST-MODIFIED:20230920T094442Z
UID:2027-1698346800-1698350400@sheffieldurc.org.uk
SUMMARY:Fellowship Evening
DESCRIPTION:Join us for our regular Thursday evening fellowship\, join us for a mix of reflection\, bible study\, discussion\, and fellowship. \n\nThe Zoom link for Thursday events is. \nhttps://us02web.zoom.us/j/85017825093 \nInformation on how to join us on Zoom is on this page
URL:https://sheffieldurc.org.uk/event/fellowship-evening-71/
LOCATION:Online\, United Kingdom
CATEGORIES:Study
END:VEVENT
BEGIN:VEVENT
DTSTART;TZID=Europe/London:20231102T190000
DTEND;TZID=Europe/London:20231102T200000
DTSTAMP:20260422T225727
CREATED:20231021T155321Z
LAST-MODIFIED:20231021T155321Z
UID:2043-1698951600-1698955200@sheffieldurc.org.uk
SUMMARY:Fellowship Evening
DESCRIPTION:Join us for our regular Thursday evening fellowship\, join us for a mix of reflection\, bible study\, discussion\, and fellowship. \n\nThe Zoom link for Thursday events is. \nhttps://us02web.zoom.us/j/85017825093 \nInformation on how to join us on Zoom is on this page
URL:https://sheffieldurc.org.uk/event/fellowship-evening-72/
LOCATION:Online\, United Kingdom
CATEGORIES:Study
END:VEVENT
BEGIN:VEVENT
DTSTART;TZID=Europe/London:20231116T190000
DTEND;TZID=Europe/London:20231116T200000
DTSTAMP:20260422T225727
CREATED:20231021T155454Z
LAST-MODIFIED:20231021T155454Z
UID:2047-1700161200-1700164800@sheffieldurc.org.uk
SUMMARY:Fellowship Evening
DESCRIPTION:Join us for our regular Thursday evening fellowship\, join us for a mix of reflection\, bible study\, discussion\, and fellowship. \n\nThe Zoom link for Thursday events is. \nhttps://us02web.zoom.us/j/85017825093 \nInformation on how to join us on Zoom is on this page
URL:https://sheffieldurc.org.uk/event/fellowship-evening-74/
LOCATION:Online\, United Kingdom
CATEGORIES:Study
END:VEVENT
BEGIN:VEVENT
DTSTART;TZID=Europe/London:20231207T190000
DTEND;TZID=Europe/London:20231207T200000
DTSTAMP:20260422T225727
CREATED:20231021T155618Z
LAST-MODIFIED:20231111T165311Z
UID:2051-1701975600-1701979200@sheffieldurc.org.uk
SUMMARY:Fellowship Evening
DESCRIPTION:Join us for our regular Thursday evening fellowship\, join us for a mix of reflection\, bible study\, discussion\, and fellowship. \n\nThe Zoom link for Thursday events is. \nhttps://us02web.zoom.us/j/85017825093 \nInformation on how to join us on Zoom is on this page
URL:https://sheffieldurc.org.uk/event/fellowship-evening-76/
LOCATION:Online\, United Kingdom
CATEGORIES:Study
END:VEVENT
BEGIN:VEVENT
DTSTART;TZID=Europe/London:20231214T190000
DTEND;TZID=Europe/London:20231214T200000
DTSTAMP:20260422T225727
CREATED:20231111T165821Z
LAST-MODIFIED:20231111T165821Z
UID:2065-1702580400-1702584000@sheffieldurc.org.uk
SUMMARY:Fellowship Evening
DESCRIPTION:Join us for our regular Thursday evening fellowship\, join us for a mix of reflection\, bible study\, discussion\, and fellowship. \n\nThe Zoom link for Thursday events is. \nhttps://us02web.zoom.us/j/85017825093 \nInformation on how to join us on Zoom is on this page
URL:https://sheffieldurc.org.uk/event/fellowship-evening-77/
LOCATION:Online\, United Kingdom
CATEGORIES:Study
END:VEVENT
BEGIN:VEVENT
DTSTART;TZID=Europe/London:20240111T190000
DTEND;TZID=Europe/London:20240111T200000
DTSTAMP:20260422T225727
CREATED:20240119T112035Z
LAST-MODIFIED:20240119T112035Z
UID:2067-1704999600-1705003200@sheffieldurc.org.uk
SUMMARY:Fellowship Evening
DESCRIPTION:Join us for our regular Thursday evening fellowship\, join us for a mix of reflection\, bible study\, discussion\, and fellowship. \n\nThe Zoom link for Thursday events is. \nhttps://us02web.zoom.us/j/85017825093 \nInformation on how to join us on Zoom is on this page
URL:https://sheffieldurc.org.uk/event/fellowship-evening-78/
LOCATION:Online\, United Kingdom
CATEGORIES:Study
END:VEVENT
BEGIN:VEVENT
DTSTART;TZID=Europe/London:20240118T190000
DTEND;TZID=Europe/London:20240118T200000
DTSTAMP:20260422T225727
CREATED:20240119T112202Z
LAST-MODIFIED:20240119T112202Z
UID:2069-1705604400-1705608000@sheffieldurc.org.uk
SUMMARY:Fellowship Evening
DESCRIPTION:Join us for our regular Thursday evening fellowship\, join us for a mix of reflection\, bible study\, discussion\, and fellowship. \n\nThe Zoom link for Thursday events is. \nhttps://us02web.zoom.us/j/85017825093 \nInformation on how to join us on Zoom is on this page
URL:https://sheffieldurc.org.uk/event/fellowship-evening-79/
LOCATION:Online\, United Kingdom
CATEGORIES:Study
END:VEVENT
BEGIN:VEVENT
DTSTART;TZID=Europe/London:20240125T190000
DTEND;TZID=Europe/London:20240125T200000
DTSTAMP:20260422T225727
CREATED:20240119T112253Z
LAST-MODIFIED:20240119T112253Z
UID:2071-1706209200-1706212800@sheffieldurc.org.uk
SUMMARY:Fellowship Evening
DESCRIPTION:Join us for our regular Thursday evening fellowship\, join us for a mix of reflection\, bible study\, discussion\, and fellowship. \n\nThe Zoom link for Thursday events is. \nhttps://us02web.zoom.us/j/85017825093 \nInformation on how to join us on Zoom is on this page
URL:https://sheffieldurc.org.uk/event/fellowship-evening-80/
LOCATION:Online\, United Kingdom
CATEGORIES:Study
END:VEVENT
BEGIN:VEVENT
DTSTART;TZID=Europe/London:20240201T190000
DTEND;TZID=Europe/London:20240201T200000
DTSTAMP:20260422T225727
CREATED:20240119T112334Z
LAST-MODIFIED:20240119T112334Z
UID:2073-1706814000-1706817600@sheffieldurc.org.uk
SUMMARY:Fellowship Evening
DESCRIPTION:Join us for our regular Thursday evening fellowship\, join us for a mix of reflection\, bible study\, discussion\, and fellowship. \n\nThe Zoom link for Thursday events is. \nhttps://us02web.zoom.us/j/85017825093 \nInformation on how to join us on Zoom is on this page
URL:https://sheffieldurc.org.uk/event/fellowship-evening-81/
LOCATION:Online\, United Kingdom
CATEGORIES:Study
END:VEVENT
BEGIN:VEVENT
DTSTART;TZID=Europe/London:20240208T190000
DTEND;TZID=Europe/London:20240208T200000
DTSTAMP:20260422T225727
CREATED:20240119T112422Z
LAST-MODIFIED:20240119T112422Z
UID:2075-1707418800-1707422400@sheffieldurc.org.uk
SUMMARY:Fellowship Evening
DESCRIPTION:Join us for our regular Thursday evening fellowship\, join us for a mix of reflection\, bible study\, discussion\, and fellowship. \n\nThe Zoom link for Thursday events is. \nhttps://us02web.zoom.us/j/85017825093 \nInformation on how to join us on Zoom is on this page
URL:https://sheffieldurc.org.uk/event/fellowship-evening-82/
LOCATION:Online\, United Kingdom
CATEGORIES:Study
END:VEVENT
BEGIN:VEVENT
DTSTART;TZID=Europe/London:20240215T190000
DTEND;TZID=Europe/London:20240215T200000
DTSTAMP:20260422T225727
CREATED:20240119T112504Z
LAST-MODIFIED:20240119T112504Z
UID:2077-1708023600-1708027200@sheffieldurc.org.uk
SUMMARY:Fellowship Evening
DESCRIPTION:Join us for our regular Thursday evening fellowship\, join us for a mix of reflection\, bible study\, discussion\, and fellowship. \n\nThe Zoom link for Thursday events is. \nhttps://us02web.zoom.us/j/85017825093 \nInformation on how to join us on Zoom is on this page
URL:https://sheffieldurc.org.uk/event/fellowship-evening-83/
LOCATION:Online\, United Kingdom
CATEGORIES:Study
END:VEVENT
BEGIN:VEVENT
DTSTART;TZID=Europe/London:20240222T190000
DTEND;TZID=Europe/London:20240222T200000
DTSTAMP:20260422T225727
CREATED:20240119T112554Z
LAST-MODIFIED:20240119T112554Z
UID:2079-1708628400-1708632000@sheffieldurc.org.uk
SUMMARY:Fellowship Evening
DESCRIPTION:Join us for our regular Thursday evening fellowship\, join us for a mix of reflection\, bible study\, discussion\, and fellowship. \n\nThe Zoom link for Thursday events is. \nhttps://us02web.zoom.us/j/85017825093 \nInformation on how to join us on Zoom is on this page
URL:https://sheffieldurc.org.uk/event/fellowship-evening-84/
LOCATION:Online\, United Kingdom
CATEGORIES:Study
END:VEVENT
BEGIN:VEVENT
DTSTART;TZID=Europe/London:20240229T190000
DTEND;TZID=Europe/London:20240229T200000
DTSTAMP:20260422T225727
CREATED:20240119T112632Z
LAST-MODIFIED:20240119T112632Z
UID:2081-1709233200-1709236800@sheffieldurc.org.uk
SUMMARY:Fellowship Evening
DESCRIPTION:Join us for our regular Thursday evening fellowship\, join us for a mix of reflection\, bible study\, discussion\, and fellowship. \n\nThe Zoom link for Thursday events is. \nhttps://us02web.zoom.us/j/85017825093 \nInformation on how to join us on Zoom is on this page
URL:https://sheffieldurc.org.uk/event/fellowship-evening-85/
LOCATION:Online\, United Kingdom
CATEGORIES:Study
END:VEVENT
BEGIN:VEVENT
DTSTART;TZID=Europe/London:20240307T190000
DTEND;TZID=Europe/London:20240307T200000
DTSTAMP:20260422T225727
CREATED:20240221T135941Z
LAST-MODIFIED:20240221T135941Z
UID:2087-1709838000-1709841600@sheffieldurc.org.uk
SUMMARY:Fellowship Evening
DESCRIPTION:Join us for our regular Thursday evening fellowship\, join us for a mix of reflection\, bible study\, discussion\, and fellowship. \n\nThe Zoom link for Thursday events is. \nhttps://us02web.zoom.us/j/85017825093 \nInformation on how to join us on Zoom is on this page
URL:https://sheffieldurc.org.uk/event/fellowship-evening-86/
LOCATION:Online\, United Kingdom
CATEGORIES:Study
END:VEVENT
BEGIN:VEVENT
DTSTART;TZID=Europe/London:20240314T190000
DTEND;TZID=Europe/London:20240314T200000
DTSTAMP:20260422T225727
CREATED:20240221T140025Z
LAST-MODIFIED:20240221T140025Z
UID:2089-1710442800-1710446400@sheffieldurc.org.uk
SUMMARY:Fellowship Evening
DESCRIPTION:Join us for our regular Thursday evening fellowship\, join us for a mix of reflection\, bible study\, discussion\, and fellowship. \n\nThe Zoom link for Thursday events is. \nhttps://us02web.zoom.us/j/85017825093 \nInformation on how to join us on Zoom is on this page
URL:https://sheffieldurc.org.uk/event/fellowship-evening-87/
LOCATION:Online\, United Kingdom
CATEGORIES:Study
END:VEVENT
BEGIN:VEVENT
DTSTART;TZID=Europe/London:20240321T190000
DTEND;TZID=Europe/London:20240321T200000
DTSTAMP:20260422T225727
CREATED:20240221T140109Z
LAST-MODIFIED:20240221T140109Z
UID:2091-1711047600-1711051200@sheffieldurc.org.uk
SUMMARY:Fellowship Evening
DESCRIPTION:Join us for our regular Thursday evening fellowship\, join us for a mix of reflection\, bible study\, discussion\, and fellowship. \n\nThe Zoom link for Thursday events is. \nhttps://us02web.zoom.us/j/85017825093 \nInformation on how to join us on Zoom is on this page
URL:https://sheffieldurc.org.uk/event/fellowship-evening-88/
LOCATION:Online\, United Kingdom
CATEGORIES:Study
END:VEVENT
BEGIN:VEVENT
DTSTART;TZID=Europe/London:20240404T190000
DTEND;TZID=Europe/London:20240404T200000
DTSTAMP:20260422T225727
CREATED:20240221T140143Z
LAST-MODIFIED:20240322T151816Z
UID:2093-1712257200-1712260800@sheffieldurc.org.uk
SUMMARY:Fellowship Evening
DESCRIPTION:Join us for our regular Thursday evening fellowship\, join us for a mix of reflection\, bible study\, discussion\, and fellowship. \n\nThe Zoom link for Thursday events is. \nhttps://us02web.zoom.us/j/85017825093 \nInformation on how to join us on Zoom is on this page
URL:https://sheffieldurc.org.uk/event/fellowship-evening-89/
LOCATION:Online\, United Kingdom
CATEGORIES:Study
END:VEVENT
BEGIN:VEVENT
DTSTART;TZID=Europe/London:20240418T190000
DTEND;TZID=Europe/London:20240418T200000
DTSTAMP:20260422T225727
CREATED:20240322T151859Z
LAST-MODIFIED:20240414T212054Z
UID:2106-1713466800-1713470400@sheffieldurc.org.uk
SUMMARY:Fellowship Evening
DESCRIPTION:Join us for our regular Thursday evening fellowship\, join us for a mix of reflection\, bible study\, discussion\, and fellowship. \n\nAs we are Easter people we will be looking at Paul’s letter to the Colossians 3:1 – 17 and some suggestions for our new life in Christ.\n\nThe Zoom link for Thursday events is. \nhttps://us02web.zoom.us/j/85017825093 \nInformation on how to join us on Zoom is on this page
URL:https://sheffieldurc.org.uk/event/fellowship-evening-90/
LOCATION:Online\, United Kingdom
CATEGORIES:Study
END:VEVENT
BEGIN:VEVENT
DTSTART;TZID=Europe/London:20240425T190000
DTEND;TZID=Europe/London:20240425T200000
DTSTAMP:20260422T225727
CREATED:20240322T151938Z
LAST-MODIFIED:20240322T151938Z
UID:2108-1714071600-1714075200@sheffieldurc.org.uk
SUMMARY:Fellowship Evening
DESCRIPTION:Join us for our regular Thursday evening fellowship\, join us for a mix of reflection\, bible study\, discussion\, and fellowship. \n\nThe Zoom link for Thursday events is. \nhttps://us02web.zoom.us/j/85017825093 \nInformation on how to join us on Zoom is on this page
URL:https://sheffieldurc.org.uk/event/fellowship-evening-91/
LOCATION:Online\, United Kingdom
CATEGORIES:Study
END:VEVENT
BEGIN:VEVENT
DTSTART;TZID=Europe/London:20240509T190000
DTEND;TZID=Europe/London:20240509T200000
DTSTAMP:20260422T225727
CREATED:20240520T155000Z
LAST-MODIFIED:20240520T155036Z
UID:2116-1715281200-1715284800@sheffieldurc.org.uk
SUMMARY:Fellowship Evening
DESCRIPTION:Join us for our regular Thursday evening fellowship\, join us for a mix of reflection\, bible study\, discussion\, and fellowship. \n\nThe Zoom link for Thursday events is. \nhttps://us02web.zoom.us/j/85017825093 \nInformation on how to join us on Zoom is on this page
URL:https://sheffieldurc.org.uk/event/fellowship-evening-92/
LOCATION:Online\, United Kingdom
CATEGORIES:Study
END:VEVENT
BEGIN:VEVENT
DTSTART;TZID=Europe/London:20240516T190000
DTEND;TZID=Europe/London:20240516T200000
DTSTAMP:20260422T225727
CREATED:20240520T155121Z
LAST-MODIFIED:20240520T155121Z
UID:2118-1715886000-1715889600@sheffieldurc.org.uk
SUMMARY:Fellowship Evening
DESCRIPTION:Join us for our regular Thursday evening fellowship\, join us for a mix of reflection\, bible study\, discussion\, and fellowship. \n\nThe Zoom link for Thursday events is. \nhttps://us02web.zoom.us/j/85017825093 \nInformation on how to join us on Zoom is on this page
URL:https://sheffieldurc.org.uk/event/fellowship-evening-93/
LOCATION:Online\, United Kingdom
CATEGORIES:Study
END:VEVENT
BEGIN:VEVENT
DTSTART;TZID=Europe/London:20240523T190000
DTEND;TZID=Europe/London:20240523T200000
DTSTAMP:20260422T225727
CREATED:20240520T155204Z
LAST-MODIFIED:20240520T155204Z
UID:2120-1716490800-1716494400@sheffieldurc.org.uk
SUMMARY:Fellowship Evening
DESCRIPTION:Join us for our regular Thursday evening fellowship\, join us for a mix of reflection\, bible study\, discussion\, and fellowship. \n\nThe Zoom link for Thursday events is. \nhttps://us02web.zoom.us/j/85017825093 \nInformation on how to join us on Zoom is on this page
URL:https://sheffieldurc.org.uk/event/fellowship-evening-94/
LOCATION:Online\, United Kingdom
CATEGORIES:Study
END:VEVENT
BEGIN:VEVENT
DTSTART;TZID=Europe/London:20240530T190000
DTEND;TZID=Europe/London:20240530T200000
DTSTAMP:20260422T225727
CREATED:20240520T155329Z
LAST-MODIFIED:20240520T155545Z
UID:2122-1717095600-1717099200@sheffieldurc.org.uk
SUMMARY:Fellowship Evening
DESCRIPTION:Join us for our regular Thursday evening fellowship\, join us for a mix of reflection\, bible study\, discussion\, and fellowship. \n\nThere is a different Zoom link for this weeks event. \nhttps://us02https://us02web.zoom.us/j/88344141516?pwd=c25CV0JpT2ZPNG1wUFJHRjVYQmkzQT09web.zoom.us/j/85017825093 \nInformation on how to join us on Zoom is on this page
URL:https://sheffieldurc.org.uk/event/fellowship-evening-95/
LOCATION:Online\, United Kingdom
CATEGORIES:Study
END:VEVENT
BEGIN:VEVENT
DTSTART;TZID=Europe/London:20240606T190000
DTEND;TZID=Europe/London:20240606T200000
DTSTAMP:20260422T225727
CREATED:20240520T155420Z
LAST-MODIFIED:20240520T155420Z
UID:2124-1717700400-1717704000@sheffieldurc.org.uk
SUMMARY:Fellowship Evening
DESCRIPTION:Join us for our regular Thursday evening fellowship\, join us for a mix of reflection\, bible study\, discussion\, and fellowship. \n\nThe Zoom link for Thursday events is. \nhttps://us02web.zoom.us/j/85017825093 \nInformation on how to join us on Zoom is on this page
URL:https://sheffieldurc.org.uk/event/fellowship-evening-96/
LOCATION:Online\, United Kingdom
CATEGORIES:Study
END:VEVENT
BEGIN:VEVENT
DTSTART;TZID=Europe/London:20240613T190000
DTEND;TZID=Europe/London:20240613T200000
DTSTAMP:20260422T225727
CREATED:20240520T155643Z
LAST-MODIFIED:20240520T155643Z
UID:2127-1718305200-1718308800@sheffieldurc.org.uk
SUMMARY:Fellowship Evening
DESCRIPTION:Join us for our regular Thursday evening fellowship\, join us for a mix of reflection\, bible study\, discussion\, and fellowship. \n\nThe Zoom link for Thursday events is. \nhttps://us02web.zoom.us/j/85017825093 \nInformation on how to join us on Zoom is on this page
URL:https://sheffieldurc.org.uk/event/fellowship-evening-97/
LOCATION:Online\, United Kingdom
CATEGORIES:Study
END:VEVENT
BEGIN:VEVENT
DTSTART;TZID=Europe/London:20240620T190000
DTEND;TZID=Europe/London:20240620T200000
DTSTAMP:20260422T225727
CREATED:20240520T155730Z
LAST-MODIFIED:20240520T155730Z
UID:2129-1718910000-1718913600@sheffieldurc.org.uk
SUMMARY:Fellowship Evening
DESCRIPTION:Join us for our regular Thursday evening fellowship\, join us for a mix of reflection\, bible study\, discussion\, and fellowship. \n\nThe Zoom link for Thursday events is. \nhttps://us02web.zoom.us/j/85017825093 \nInformation on how to join us on Zoom is on this page
URL:https://sheffieldurc.org.uk/event/fellowship-evening-98/
LOCATION:Online\, United Kingdom
CATEGORIES:Study
END:VEVENT
END:VCALENDAR