BEGIN:VCALENDAR
VERSION:2.0
PRODID:-// - ECPv6.15.20//NONSGML v1.0//EN
CALSCALE:GREGORIAN
METHOD:PUBLISH
X-ORIGINAL-URL:https://sheffieldurc.org.uk
X-WR-CALDESC:Events for 
REFRESH-INTERVAL;VALUE=DURATION:PT1H
X-Robots-Tag:noindex
X-PUBLISHED-TTL:PT1H
BEGIN:VTIMEZONE
TZID:Europe/London
BEGIN:DAYLIGHT
TZOFFSETFROM:+0000
TZOFFSETTO:+0100
TZNAME:BST
DTSTART:20220327T010000
END:DAYLIGHT
BEGIN:STANDARD
TZOFFSETFROM:+0100
TZOFFSETTO:+0000
TZNAME:GMT
DTSTART:20221030T010000
END:STANDARD
BEGIN:DAYLIGHT
TZOFFSETFROM:+0000
TZOFFSETTO:+0100
TZNAME:BST
DTSTART:20230326T010000
END:DAYLIGHT
BEGIN:STANDARD
TZOFFSETFROM:+0100
TZOFFSETTO:+0000
TZNAME:GMT
DTSTART:20231029T010000
END:STANDARD
BEGIN:DAYLIGHT
TZOFFSETFROM:+0000
TZOFFSETTO:+0100
TZNAME:BST
DTSTART:20240331T010000
END:DAYLIGHT
BEGIN:STANDARD
TZOFFSETFROM:+0100
TZOFFSETTO:+0000
TZNAME:GMT
DTSTART:20241027T010000
END:STANDARD
END:VTIMEZONE
BEGIN:VEVENT
DTSTART;TZID=Europe/London:20230202T190000
DTEND;TZID=Europe/London:20230202T200000
DTSTAMP:20260422T131042
CREATED:20230207T171926Z
LAST-MODIFIED:20230207T171926Z
UID:1946-1675364400-1675368000@sheffieldurc.org.uk
SUMMARY:Fellowship Evening
DESCRIPTION:Join us for our regular Thursday evening fellowship\, join us for a mix of reflection\, bible study\, discussion\, and fellowship.\n\nThe Zoom link for Thursday events is. \nhttps://us02web.zoom.us/j/85017825093 \nInformation on how to join us on Zoom is on this page
URL:https://sheffieldurc.org.uk/event/fellowship-evening-42/
LOCATION:Online\, United Kingdom
CATEGORIES:Study
END:VEVENT
BEGIN:VEVENT
DTSTART;TZID=Europe/London:20230209T190000
DTEND;TZID=Europe/London:20230209T200000
DTSTAMP:20260422T131042
CREATED:20230207T172316Z
LAST-MODIFIED:20230207T172316Z
UID:1948-1675969200-1675972800@sheffieldurc.org.uk
SUMMARY:Fellowship Evening
DESCRIPTION:Join us for our regular Thursday evening fellowship. Barry  will be leading the session and we will be looking at what mission is and what we should be focusing on. We hope you will be able to join us and please spread the word – it would be wonderful to have more folk joining us. No breakout rooms this week.\n\nThe Zoom link for Thursday events is. \nhttps://us02web.zoom.us/j/85017825093 \nInformation on how to join us on Zoom is on this page
URL:https://sheffieldurc.org.uk/event/fellowship-evening-43/
LOCATION:Online\, United Kingdom
CATEGORIES:Study
END:VEVENT
BEGIN:VEVENT
DTSTART;TZID=Europe/London:20230216T190000
DTEND;TZID=Europe/London:20230216T200000
DTSTAMP:20260422T131042
CREATED:20230207T172410Z
LAST-MODIFIED:20230207T172410Z
UID:1950-1676574000-1676577600@sheffieldurc.org.uk
SUMMARY:Fellowship Evening
DESCRIPTION:Join us for our regular Thursday evening fellowship\, join us for a mix of reflection\, bible study\, discussion\, and fellowship.\n\nThe Zoom link for Thursday events is. \nhttps://us02web.zoom.us/j/85017825093 \nInformation on how to join us on Zoom is on this page
URL:https://sheffieldurc.org.uk/event/fellowship-evening-44/
LOCATION:Online\, United Kingdom
CATEGORIES:Study
END:VEVENT
BEGIN:VEVENT
DTSTART;TZID=Europe/London:20230223T080000
DTEND;TZID=Europe/London:20230223T170000
DTSTAMP:20260422T131042
CREATED:20230207T172514Z
LAST-MODIFIED:20230207T172514Z
UID:1952-1677139200-1677171600@sheffieldurc.org.uk
SUMMARY:Fellowship Evening
DESCRIPTION:Join us for our regular Thursday evening fellowship\, join us for a mix of reflection\, bible study\, discussion\, and fellowship.\n\nThe Zoom link for Thursday events is. \nhttps://us02web.zoom.us/j/85017825093 \nInformation on how to join us on Zoom is on this page
URL:https://sheffieldurc.org.uk/event/fellowship-evening-45/
LOCATION:Online\, United Kingdom
CATEGORIES:Study
END:VEVENT
END:VCALENDAR