BEGIN:VCALENDAR
VERSION:2.0
PRODID:-// - ECPv6.15.20//NONSGML v1.0//EN
CALSCALE:GREGORIAN
METHOD:PUBLISH
X-ORIGINAL-URL:https://sheffieldurc.org.uk
X-WR-CALDESC:Events for 
REFRESH-INTERVAL;VALUE=DURATION:PT1H
X-Robots-Tag:noindex
X-PUBLISHED-TTL:PT1H
BEGIN:VTIMEZONE
TZID:Europe/London
BEGIN:DAYLIGHT
TZOFFSETFROM:+0000
TZOFFSETTO:+0100
TZNAME:BST
DTSTART:20210328T010000
END:DAYLIGHT
BEGIN:STANDARD
TZOFFSETFROM:+0100
TZOFFSETTO:+0000
TZNAME:GMT
DTSTART:20211031T010000
END:STANDARD
BEGIN:DAYLIGHT
TZOFFSETFROM:+0000
TZOFFSETTO:+0100
TZNAME:BST
DTSTART:20220327T010000
END:DAYLIGHT
BEGIN:STANDARD
TZOFFSETFROM:+0100
TZOFFSETTO:+0000
TZNAME:GMT
DTSTART:20221030T010000
END:STANDARD
BEGIN:DAYLIGHT
TZOFFSETFROM:+0000
TZOFFSETTO:+0100
TZNAME:BST
DTSTART:20230326T010000
END:DAYLIGHT
BEGIN:STANDARD
TZOFFSETFROM:+0100
TZOFFSETTO:+0000
TZNAME:GMT
DTSTART:20231029T010000
END:STANDARD
END:VTIMEZONE
BEGIN:VEVENT
DTSTART;TZID=Europe/London:20221103T190000
DTEND;TZID=Europe/London:20221103T200000
DTSTAMP:20260422T182132
CREATED:20221017T111601Z
LAST-MODIFIED:20221017T111601Z
UID:1914-1667502000-1667505600@sheffieldurc.org.uk
SUMMARY:Fellowship Evening
DESCRIPTION:As we start looking towards the Advent season we continue our Fellowship evenings.\n\nJoin us for our regular Thursday evening fellowship\, join us for a mix of reflection\, bible study\, discussion\, and fellowship.\n\nThe Zoom link for this event is a new link for Thursday events. \nhttps://us02web.zoom.us/j/85017825093 \nInformation on how to join us on Zoom is on this page
URL:https://sheffieldurc.org.uk/event/fellowship-evening-34/
LOCATION:Online\, United Kingdom
CATEGORIES:Study
END:VEVENT
BEGIN:VEVENT
DTSTART;TZID=Europe/London:20221110T190000
DTEND;TZID=Europe/London:20221110T200000
DTSTAMP:20260422T182133
CREATED:20221017T111648Z
LAST-MODIFIED:20221027T195527Z
UID:1916-1668106800-1668110400@sheffieldurc.org.uk
SUMMARY:Fellowship Evening
DESCRIPTION:Simon will be leading this session and reflecting on his Prayer Retreat at Ffald y Brenin retreat centre in Wales\, sharing insights about how they developed their model of being a local House of Prayer that wants to bless their community through hospitality\, regular prayer and intercession.\n\nJoin us for our regular Thursday evening fellowship\, join us for a mix of reflection\, bible study\, discussion\, and fellowship.\n\nThe Zoom link for this event is a new link for Thursday events. \nhttps://us02web.zoom.us/j/85017825093 \nInformation on how to join us on Zoom is on this page
URL:https://sheffieldurc.org.uk/event/fellowship-evening-35/
LOCATION:Online\, United Kingdom
CATEGORIES:Study
END:VEVENT
BEGIN:VEVENT
DTSTART;TZID=Europe/London:20221117T190000
DTEND;TZID=Europe/London:20221117T200000
DTSTAMP:20260422T182133
CREATED:20221017T111759Z
LAST-MODIFIED:20221017T111759Z
UID:1918-1668711600-1668715200@sheffieldurc.org.uk
SUMMARY:Fellowship Evening
DESCRIPTION:As we start looking towards the Advent season we continue our Fellowship evenings.\n\nJoin us for our regular Thursday evening fellowship\, join us for a mix of reflection\, bible study\, discussion\, and fellowship.\n\nThe Zoom link for  for Thursday events. \nhttps://us02web.zoom.us/j/85017825093 \nInformation on how to join us on Zoom is on this page
URL:https://sheffieldurc.org.uk/event/fellowship-evening-36/
LOCATION:Online\, United Kingdom
CATEGORIES:Study
END:VEVENT
END:VCALENDAR