BEGIN:VCALENDAR
VERSION:2.0
PRODID:-// - ECPv6.15.20//NONSGML v1.0//EN
CALSCALE:GREGORIAN
METHOD:PUBLISH
X-ORIGINAL-URL:https://sheffieldurc.org.uk
X-WR-CALDESC:Events for 
REFRESH-INTERVAL;VALUE=DURATION:PT1H
X-Robots-Tag:noindex
X-PUBLISHED-TTL:PT1H
BEGIN:VTIMEZONE
TZID:Europe/London
BEGIN:DAYLIGHT
TZOFFSETFROM:+0000
TZOFFSETTO:+0100
TZNAME:BST
DTSTART:20210328T010000
END:DAYLIGHT
BEGIN:STANDARD
TZOFFSETFROM:+0100
TZOFFSETTO:+0000
TZNAME:GMT
DTSTART:20211031T010000
END:STANDARD
BEGIN:DAYLIGHT
TZOFFSETFROM:+0000
TZOFFSETTO:+0100
TZNAME:BST
DTSTART:20220327T010000
END:DAYLIGHT
BEGIN:STANDARD
TZOFFSETFROM:+0100
TZOFFSETTO:+0000
TZNAME:GMT
DTSTART:20221030T010000
END:STANDARD
BEGIN:DAYLIGHT
TZOFFSETFROM:+0000
TZOFFSETTO:+0100
TZNAME:BST
DTSTART:20230326T010000
END:DAYLIGHT
BEGIN:STANDARD
TZOFFSETFROM:+0100
TZOFFSETTO:+0000
TZNAME:GMT
DTSTART:20231029T010000
END:STANDARD
END:VTIMEZONE
BEGIN:VEVENT
DTSTART;TZID=Europe/London:20220408T103000
DTEND;TZID=Europe/London:20220408T120000
DTSTAMP:20260426T051150
CREATED:20220330T100714Z
LAST-MODIFIED:20220330T100714Z
UID:1825-1649413800-1649419200@sheffieldurc.org.uk
SUMMARY:Walk & Talk
DESCRIPTION:Another event in our Journeying in Lent series \nAn opportunity to get together for a short walk\, chat with people and finish off with refreshment at an outdoor café. \nMeet at the café in Endcliffe Park
URL:https://sheffieldurc.org.uk/event/walk-talk/
LOCATION:Endcliffe Park\, Rustlings Road\, Sheffield\, S11 7AB
CATEGORIES:Social,Worship
END:VEVENT
END:VCALENDAR